BEGIN:VCALENDAR
VERSION:2.0
PRODID:-//eventon.com NONSGML v1.0//EN
CALSCALE:GREGORIAN
METHOD:PUBLISH
BEGIN:VEVENT
UID:69e89593c8d0a
DTSTAMP:20260422T093203Z
DTSTART:20241217T190000Z
DTEND:20241217T220000Z
LOCATION:8900 Business Park Drive 8900 Business Park Dr
SUMMARY:In-Depth Focus: Recent Changes to the TREC Contract | December 17\,  2024
DESCRIPTION:Obtain an in-depth understanding of the One to Four Residential
  Contract. Participants will dive into the key paragraphs of the contract\,
   uncovering common mistakes\,  exploring the meaning and intent behind eac
 h section\,  and mastering the art of properly completing the form. Our exp
 ert panel will guide you through best practices[..]\nhttps://pattentitle.co
 m/events/in-depth-focus-recent-changes-to-the-trec-contract-december-17-202
 4/
URL:https://pattentitle.com/events/in-depth-focus-recent-changes-to-the-trec-contract-december-17-2024/
END:VEVENT
END:VCALENDAR